{
 "extent": {
  "ymin": 4789998.5,
  "xmin": 654371.5,
  "ymax": 4807727.5,
  "xmax": 743100.5,
  "spatialReference": {
   "latestWkid": 6346,
   "wkid": 102386
  }
 },
 "blockWidth": 2048,
 "mosaicOperator": "First",
 "serviceSourceType": "esriImageServiceSourceTypeMosaicDataset",
 "hasMultidimensions": false,
 "maxImageWidth": 15000,
 "maxRecordCount": 1000,
 "meanValues": [
  74.635681634808165
 ],
 "hasColormap": false,
 "compressionType": "None",
 "defaultCompressionQuality": 75,
 "maxValues": [
  140.05567932128906
 ],
 "hasHistograms": true,
 "datasetFormat": "AMD",
 "maxImageHeight": 4100,
 "sortField": "",
 "bandNames": [
  "Band_1"
 ],
 "spatialReference": {
  "latestWkid": 6346,
  "wkid": 102386
 },
 "fullExtent": {
  "ymin": 4789998.5,
  "xmin": 654371.5,
  "ymax": 4807727.5,
  "xmax": 743100.5,
  "spatialReference": {
   "latestWkid": 6346,
   "wkid": 102386,
   "htmlEncoded": true
  },
  "htmlEncoded": true
 },
 "bandCount": 1,
 "rasterFunctionInfos": [
  {
   "help": "",
   "name": "NCMP_NAVD88_minus74.2_times10_16bitSigned_cmap",
   "description": "A raster function template."
  },
  {
   "help": "",
   "name": "None",
   "description": "Make a Raster or Raster Dataset into a Function Raster Dataset."
  }
 ],
 "supportsStatistics": true,
 "sortableFields": "MinPS,MaxPS,LowPS,HighPS,CenterX,CenterY,ZOrder,Shape_Length,Shape_Area,Year,Start_Date,End_Date,UTM_Zone",
 "minValues": [
  56.026336669921875
 ],
 "allowRasterFunction": true,
 "allowComputeTiePoints": false,
 "serviceDataType": "esriImageServiceDataTypeGeneric",
 "supportsAdvancedQueries": true,
 "maxDownloadSizeLimit": 2048,
 "currentVersion": 11.4,
 "sortValue": null,
 "objectIdField": "OBJECTID",
 "blockHeight": 256,
 "initialExtent": {
  "ymin": 4789998.5,
  "xmin": 654371.5,
  "ymax": 4807727.5,
  "xmax": 743100.5,
  "spatialReference": {
   "latestWkid": 6346,
   "wkid": 102386,
   "htmlEncoded": true
  },
  "htmlEncoded": true
 },
 "pixelSizeX": 1,
 "pixelSizeY": 1,
 "defaultMosaicMethod": "Northwest",
 "name": "2018_NCMP_NY_Ontario_BareEarth_1mGrid_UTM_17",
 "allowedMosaicMethods": "NorthWest,Center,LockRaster,ByAttribute,Nadir,Viewpoint,Seamline,None",
 "maxDownloadImageCount": 20,
 "fields": [
  {
   "domain": null,
   "name": "OBJECTID",
   "alias": "OBJECTID",
   "type": "esriFieldTypeOID",
   "htmlEncoded": true
  },
  {
   "domain": null,
   "name": "Shape",
   "alias": "Shape",
   "type": "esriFieldTypeGeometry",
   "htmlEncoded": true
  },
  {
   "domain": null,
   "name": "Name",
   "length": 200,
   "alias": "Name",
   "type": "esriFieldTypeString",
   "htmlEncoded": true
  },
  {
   "domain": null,
   "name": "MinPS",
   "alias": "MinPS",
   "type": "esriFieldTypeDouble",
   "htmlEncoded": true
  },
  {
   "domain": null,
   "name": "MaxPS",
   "alias": "MaxPS",
   "type": "esriFieldTypeDouble",
   "htmlEncoded": true
  },
  {
   "domain": null,
   "name": "LowPS",
   "alias": "LowPS",
   "type": "esriFieldTypeDouble",
   "htmlEncoded": true
  },
  {
   "domain": null,
   "name": "HighPS",
   "alias": "HighPS",
   "type": "esriFieldTypeDouble",
   "htmlEncoded": true
  },
  {
   "domain": {
    "splitPolicy": "esriSPTDefaultValue",
    "name": "MosaicCatalogItemCategoryDomain",
    "description": "Catalog item categories.",
    "type": "codedValue",
    "codedValues": [
     {
      "code": 0,
      "name": "Unknown",
      "htmlEncoded": true
     },
     {
      "code": 1,
      "name": "Primary",
      "htmlEncoded": true
     },
     {
      "code": 2,
      "name": "Overview",
      "htmlEncoded": true
     },
     {
      "code": 3,
      "name": "Unprocessed Overview",
      "htmlEncoded": true
     },
     {
      "code": 4,
      "name": "Partial Overview",
      "htmlEncoded": true
     },
     {
      "code": 5,
      "name": "Inactive",
      "htmlEncoded": true
     },
     {
      "code": 253,
      "name": "Uploaded",
      "htmlEncoded": true
     },
     {
      "code": 254,
      "name": "Incomplete",
      "htmlEncoded": true
     },
     {
      "code": 255,
      "name": "Custom",
      "htmlEncoded": true
     }
    ],
    "mergePolicy": "esriMPTDefaultValue",
    "htmlEncoded": true
   },
   "name": "Category",
   "alias": "Category",
   "type": "esriFieldTypeInteger",
   "htmlEncoded": true
  },
  {
   "domain": null,
   "name": "Tag",
   "length": 100,
   "alias": "Tag",
   "type": "esriFieldTypeString",
   "htmlEncoded": true
  },
  {
   "domain": null,
   "name": "GroupName",
   "length": 100,
   "alias": "GroupName",
   "type": "esriFieldTypeString",
   "htmlEncoded": true
  },
  {
   "domain": null,
   "name": "ProductName",
   "length": 100,
   "alias": "ProductName",
   "type": "esriFieldTypeString",
   "htmlEncoded": true
  },
  {
   "domain": null,
   "name": "CenterX",
   "alias": "CenterX",
   "type": "esriFieldTypeDouble",
   "htmlEncoded": true
  },
  {
   "domain": null,
   "name": "CenterY",
   "alias": "CenterY",
   "type": "esriFieldTypeDouble",
   "htmlEncoded": true
  },
  {
   "domain": null,
   "name": "ZOrder",
   "alias": "ZOrder",
   "type": "esriFieldTypeInteger",
   "htmlEncoded": true
  },
  {
   "domain": null,
   "name": "Year",
   "alias": "Year",
   "type": "esriFieldTypeSmallInteger",
   "htmlEncoded": true
  },
  {
   "domain": null,
   "name": "Start_Date",
   "length": 8,
   "alias": "Start_Date",
   "type": "esriFieldTypeDate",
   "htmlEncoded": true
  },
  {
   "domain": null,
   "name": "End_Date",
   "length": 8,
   "alias": "End_Date",
   "type": "esriFieldTypeDate",
   "htmlEncoded": true
  },
  {
   "domain": null,
   "name": "State",
   "length": 255,
   "alias": "State",
   "type": "esriFieldTypeString",
   "htmlEncoded": true
  },
  {
   "domain": null,
   "name": "Effort",
   "length": 255,
   "alias": "Effort",
   "type": "esriFieldTypeString",
   "htmlEncoded": true
  },
  {
   "domain": null,
   "name": "UTM_Zone",
   "alias": "UTM_Zone",
   "type": "esriFieldTypeSmallInteger",
   "htmlEncoded": true
  },
  {
   "domain": null,
   "name": "Hemisphere",
   "length": 255,
   "alias": "Hemisphere",
   "type": "esriFieldTypeString",
   "htmlEncoded": true
  },
  {
   "domain": null,
   "name": "Shape_Length",
   "alias": "Shape_Length",
   "type": "esriFieldTypeDouble",
   "htmlEncoded": true
  },
  {
   "domain": null,
   "name": "Shape_Area",
   "alias": "Shape_Area",
   "type": "esriFieldTypeDouble",
   "htmlEncoded": true
  }
 ],
 "allowAnalysis": true,
 "hasRasterAttributeTable": false,
 "useStandardizedQueries": true,
 "description": "",
 "pixelType": "F32",
 "meanPixelSize": 1,
 "exportTilesAllowed": false,
 "editFieldsInfo": null,
 "rasterTypeInfos": [
  {
   "help": "",
   "name": "Raster Dataset",
   "description": "Supports all ArcGIS Raster Datasets"
  }
 ],
 "defaultResamplingMethod": "Bilinear",
 "itemAccess": false,
 "minScale": 0,
 "advancedQueryCapabilities": {
  "supportsStatistics": true,
  "supportsOrderBy": true,
  "useStandardizedQueries": true,
  "supportsPagination": true,
  "supportsDistinct": true
 },
 "capabilities": "Image,Metadata,Pixels,Catalog,Download",
 "maxScale": 0,
 "stdvValues": [
  8.0985148691869941
 ],
 "minPixelSize": 0,
 "sortAscending": true,
 "maxMosaicImageCount": 20,
 "inspectionCapabilities": "",
 "maxPixelSize": 0,
 "uncompressedSize": 6292305764,
 "serviceDescription": "2018_NCMP_NY_Ontario_BareEarth_1mGrid_UTM_17",
 "allowCopy": true,
 "copyrightText": "",
 "mensurationCapabilities": "None",
 "ownershipBasedAccessControlForRasters": null
}
