{ "extent": { "ymin": 4592000, "xmin": 627000, "ymax": 4636000, "xmax": 669000, "spatialReference": { "latestWkid": 26917, "wkid": 26917 } }, "blockWidth": 2048, "mosaicOperator": "First", "serviceSourceType": "esriImageServiceSourceTypeMosaicDataset", "hasMultidimensions": false, "maxImageWidth": 15000, "maxRecordCount": 1000, "meanValues": [ 81.587224345432062, 96.475360220287428, 65.641322667172886 ], "hasColormap": false, "compressionType": "None", "defaultCompressionQuality": 75, "maxValues": [ 252, 255, 255 ], "hasHistograms": true, "datasetFormat": "AMD", "maxImageHeight": 4100, "sortField": "", "bandNames": [ "Band_1", "Band_2", "Band_3" ], "spatialReference": { "latestWkid": 26917, "wkid": 26917 }, "fullExtent": { "ymin": 4592000, "xmin": 627000, "ymax": 4636000, "xmax": 669000, "spatialReference": { "latestWkid": 26917, "wkid": 26917 } }, "bandCount": 3, "rasterFunctionInfos": [{ "help": "", "name": "None", "description": "" }], "supportsStatistics": true, "sortableFields": "MinPS,MaxPS,LowPS,HighPS,CenterX,CenterY,ZOrder,Shape_Length,Shape_Area", "minValues": [ 0, 0, 0 ], "allowRasterFunction": true, "allowComputeTiePoints": false, "serviceDataType": "esriImageServiceDataTypeRGB", "supportsAdvancedQueries": true, "maxDownloadSizeLimit": 2048, "currentVersion": 12.1, "sortValue": null, "objectIdField": "OBJECTID", "blockHeight": 256, "initialExtent": { "ymin": 4592000, "xmin": 627000, "ymax": 4636000, "xmax": 669000, "spatialReference": { "latestWkid": 26917, "wkid": 26917 } }, "pixelSizeX": 0.050000000000000003, "pixelSizeY": 0.050000000000000003, "defaultMosaicMethod": "Northwest", "name": "2024_NCMP_PA_RGB_Allegheny", "allowedMosaicMethods": "NorthWest,Center,LockRaster,ByAttribute,Nadir,Viewpoint,Seamline,None", "maxDownloadImageCount": 20, "fields": [ { "domain": null, "name": "OBJECTID", "alias": "OBJECTID", "type": "esriFieldTypeOID" }, { "domain": null, "name": "Name", "length": 200, "alias": "Name", "type": "esriFieldTypeString" }, { "domain": null, "name": "MinPS", "alias": "MinPS", "type": "esriFieldTypeDouble" }, { "domain": null, "name": "MaxPS", "alias": "MaxPS", "type": "esriFieldTypeDouble" }, { "domain": null, "name": "LowPS", "alias": "LowPS", "type": "esriFieldTypeDouble" }, { "domain": null, "name": "HighPS", "alias": "HighPS", "type": "esriFieldTypeDouble" }, { "domain": { "splitPolicy": "esriSPTDefaultValue", "name": "MosaicCatalogItemCategoryDomain", "description": "Catalog item categories.", "type": "codedValue", "codedValues": [ { "code": 0, "name": "Unknown" }, { "code": 1, "name": "Primary" }, { "code": 2, "name": "Overview" }, { "code": 3, "name": "Unprocessed Overview" }, { "code": 4, "name": "Partial Overview" }, { "code": 5, "name": "Inactive" }, { "code": 253, "name": "Uploaded" }, { "code": 254, "name": "Incomplete" }, { "code": 255, "name": "Custom" } ], "mergePolicy": "esriMPTDefaultValue" }, "name": "Category", "alias": "Category", "type": "esriFieldTypeInteger" }, { "domain": null, "name": "Tag", "length": 100, "alias": "Tag", "type": "esriFieldTypeString" }, { "domain": null, "name": "GroupName", "length": 100, "alias": "GroupName", "type": "esriFieldTypeString" }, { "domain": null, "name": "ProductName", "length": 100, "alias": "ProductName", "type": "esriFieldTypeString" }, { "domain": null, "name": "CenterX", "alias": "CenterX", "type": "esriFieldTypeDouble" }, { "domain": null, "name": "CenterY", "alias": "CenterY", "type": "esriFieldTypeDouble" }, { "domain": null, "name": "ZOrder", "alias": "ZOrder", "type": "esriFieldTypeInteger" }, { "domain": null, "name": "Shape", "alias": "Shape", "type": "esriFieldTypeGeometry" } ], "allowAnalysis": true, "hasRasterAttributeTable": false, "useStandardizedQueries": true, "description": "
These files contain 3-band RGB orthorectified mosaic imagery tiles generated from data collected using a Phase One iXM-150F digital camera. This full frame medium-format aerial survey camera collected imagery data in tandem with a bathymetric lidar sensor and a hyperspectral imager on a single remote sensing platform. Native imagery data is not generally in a format accessible to most Geographic Information Systems (GIS). Specialized in-house and commercial software packages were used to process the native imagery data into 3-band orthorectified mosaic imagery that can be imported into GIS software for visualization and further analysis. Trajectories were transformed into positional coordinates using the HTDP (Horizontal Time-Dependent Positioning) software to maintain consistency with the NGS (National Geodetic Survey) reference to the North American Datum of 1983 (NAD83) and the North American tectonic plate coordinates realized from the National Adjustment of 2011, or NAD83 (2011). Horizontal positions, provided in decimal degrees of latitude and longitude, are referenced to NAD83 (2011) at the 2010.00 epoch. Vertical positions, provided in meters, are referenced to the NAD83 (2011) ellipsoid. NGS hybrid geoid model GEOID12B was used to transform the vertical positions from ellipsoidal heights to orthometric heights referenced to the North American Datum of 1988 (NAVD88). The imagery data are in TIF files tiled using 1 km boxes defined by the Military Grid Reference System (MGRS). The file naming convention references the year, effort, area, box number, and data product type. An example file name is, \u201c2024_NCMP_PA_17TPF2794_RGB.tif\u201d, where 2024 is the year of data collection, NCMP is the effort under which data were collected, PA is the area of data collection, 17TPF2794 is the box number and RGB is the data product type.<\/span><\/p><\/div><\/div><\/div>",
"pixelType": "U8",
"meanPixelSize": 0.050000000000000003,
"exportTilesAllowed": false,
"editFieldsInfo": null,
"rasterTypeInfos": [{
"help": "",
"name": "Raster Dataset",
"description": "Supports all ArcGIS Raster Datasets"
}],
"defaultResamplingMethod": "Bilinear",
"itemAccess": false,
"minScale": 0,
"serviceProperties": " These files contain 3-band RGB orthorectified mosaic imagery tiles generated from data collected using a Phase One iXM-150F digital camera. This full frame medium-format aerial survey camera collected imagery data in tandem with a bathymetric lidar sensor and a hyperspectral imager on a single remote sensing platform. Native imagery data is not generally in a format accessible to most Geographic Information Systems (GIS). Specialized in-house and commercial software packages were used to process the native imagery data into 3-band orthorectified mosaic imagery that can be imported into GIS software for visualization and further analysis. Trajectories were transformed into positional coordinates using the HTDP (Horizontal Time-Dependent Positioning) software to maintain consistency with the NGS (National Geodetic Survey) reference to the North American Datum of 1983 (NAD83) and the North American tectonic plate coordinates realized from the National Adjustment of 2011, or NAD83 (2011). Horizontal positions, provided in decimal degrees of latitude and longitude, are referenced to NAD83 (2011) at the 2010.00 epoch. Vertical positions, provided in meters, are referenced to the NAD83 (2011) ellipsoid. NGS hybrid geoid model GEOID12B was used to transform the vertical positions from ellipsoidal heights to orthometric heights referenced to the North American Datum of 1988 (NAVD88). The imagery data are in TIF files tiled using 1 km boxes defined by the Military Grid Reference System (MGRS). The file naming convention references the year, effort, area, box number, and data product type. An example file name is, \u201c2024_NCMP_PA_17TPF2794_RGB.tif\u201d, where 2024 is the year of data collection, NCMP is the effort under which data were collected, PA is the area of data collection, 17TPF2794 is the box number and RGB is the data product type.<\/SPAN><\/P><\/DIV><\/DIV><\/DIV>",
"allowCopy": true,
"copyrightText": "Acknowledgement of the Joint Airborne Lidar Bathymetry Technical Center of eXpertise (JALBTCX) would be appreciated in any publications or derived products.",
"mensurationCapabilities": "",
"ownershipBasedAccessControlForRasters": null
}