{ "extent": { "ymin": 3551114.8533575838, "xmin": -9957606.5256999992, "ymax": 3551744.639200002, "xmax": -9957086.745850049, "spatialReference": { "latestWkid": 3857, "wkid": 102100 } }, "blockWidth": 2048, "mosaicOperator": "First", "serviceSourceType": "esriImageServiceSourceTypeMosaicDataset", "hasMultidimensions": false, "maxImageWidth": 15000, "maxRecordCount": 1000, "meanValues": [ 119.82133094744377, 127.41665593875629, 85.54640786656276, 242.49330578405829 ], "hasColormap": false, "compressionType": "None", "defaultCompressionQuality": 75, "maxValues": [ 254, 254, 255, 255 ], "hasHistograms": true, "datasetFormat": "AMD", "maxImageHeight": 4100, "sortField": "AcquisitionDate", "bandNames": [ "Band_1", "Band_2", "Band_3", "Band_4" ], "spatialReference": { "latestWkid": 3857, "wkid": 102100 }, "fullExtent": { "ymin": 3551114.8533575838, "xmin": -9957606.5256999992, "ymax": 3551744.639200002, "xmax": -9957086.745850049, "spatialReference": { "latestWkid": 3857, "wkid": 102100 } }, "bandCount": 4, "rasterFunctionInfos": [{ "help": "", "name": "None", "description": "Make a Raster or Raster Dataset into a Function Raster Dataset." }], "supportsStatistics": true, "sortableFields": "MinPS,MaxPS,LowPS,HighPS,CenterX,CenterY,ZOrder,Shape.STArea(),Shape.STLength(),AcquisitionDate", "minValues": [ 0, 0, 0, 0 ], "allowRasterFunction": true, "allowComputeTiePoints": false, "serviceDataType": "esriImageServiceDataTypeGeneric", "supportsAdvancedQueries": true, "maxDownloadSizeLimit": 2048, "currentVersion": 12.1, "sortValue": "9999", "timeInfo": { "startTimeField": "AcquisitionDate", "endTimeField": "AcquisitionDate", "timeExtent": [ 1725019200000, 1751457600000 ], "timeReference": null }, "objectIdField": "OBJECTID", "blockHeight": 256, "initialExtent": { "ymin": 3551114.8533575838, "xmin": -9957606.5256999992, "ymax": 3551744.639200002, "xmax": -9957086.745850049, "spatialReference": { "latestWkid": 3857, "wkid": 102100 } }, "pixelSizeX": 0.015355387000006623, "pixelSizeY": 0.015355387000004998, "defaultMosaicMethod": "ByAttribute", "name": "COE_RGB_NCMP_JALBTCX_Building", "allowedMosaicMethods": "ByAttribute,NorthWest,Center,LockRaster,Nadir,Viewpoint,Seamline,None", "maxDownloadImageCount": 20, "fields": [ { "domain": null, "name": "OBJECTID", "alias": "OBJECTID", "type": "esriFieldTypeOID" }, { "domain": null, "name": "Name", "length": 200, "alias": "Name", "type": "esriFieldTypeString" }, { "domain": null, "name": "MinPS", "alias": "MinPS", "type": "esriFieldTypeDouble" }, { "domain": null, "name": "MaxPS", "alias": "MaxPS", "type": "esriFieldTypeDouble" }, { "domain": null, "name": "LowPS", "alias": "LowPS", "type": "esriFieldTypeDouble" }, { "domain": null, "name": "HighPS", "alias": "HighPS", "type": "esriFieldTypeDouble" }, { "domain": { "splitPolicy": "esriSPTDefaultValue", "name": "MosaicCatalogItemCategoryDomain", "description": "Catalog item categories.", "type": "codedValue", "codedValues": [ { "code": 0, "name": "Unknown" }, { "code": 1, "name": "Primary" }, { "code": 2, "name": "Overview" }, { "code": 3, "name": "Unprocessed Overview" }, { "code": 4, "name": "Partial Overview" }, { "code": 5, "name": "Inactive" }, { "code": 253, "name": "Uploaded" }, { "code": 254, "name": "Incomplete" }, { "code": 255, "name": "Custom" } ], "mergePolicy": "esriMPTDefaultValue" }, "name": "Category", "alias": "Category", "type": "esriFieldTypeInteger" }, { "domain": null, "name": "Tag", "length": 100, "alias": "Tag", "type": "esriFieldTypeString" }, { "domain": null, "name": "GroupName", "length": 100, "alias": "GroupName", "type": "esriFieldTypeString" }, { "domain": null, "name": "ProductName", "length": 100, "alias": "ProductName", "type": "esriFieldTypeString" }, { "domain": null, "name": "CenterX", "alias": "CenterX", "type": "esriFieldTypeDouble" }, { "domain": null, "name": "CenterY", "alias": "CenterY", "type": "esriFieldTypeDouble" }, { "domain": null, "name": "ZOrder", "alias": "ZOrder", "type": "esriFieldTypeInteger" }, { "domain": null, "name": "Shape", "alias": "Shape", "type": "esriFieldTypeGeometry" }, { "domain": null, "name": "AcquisitionDate", "length": 8, "alias": "AcquisitionDate", "type": "esriFieldTypeDate" }, { "domain": null, "name": "Shape.STArea()", "alias": "Shape.STArea()", "type": "esriFieldTypeDouble" }, { "domain": null, "name": "Shape.STLength()", "alias": "Shape.STLength()", "type": "esriFieldTypeDouble" } ], "allowAnalysis": true, "hasRasterAttributeTable": false, "useStandardizedQueries": true, "description": "
These data were collected using a GeoCue True View 660 system with three on board Sony 1\" CMOS IMX-183 Digital Cameras owned by USACE Army Corps of Engineers Joint Airborne Lidar Bathymetry Technical Center of Expertise (JALBTCX). The Sony CMOS is a 20MP digital frame camera. All raw data streams were transferred to the office for downloading and processing. The JPG images and Lidar based DEM were ingested into GeoCue'sLP360 processing software. Imagery is processing and stitched into an orthomosiac GeoTiff by Agisoft Metashape tool within Lp360. The result is a seamless, accurate, color balanced and tiled image mosaic.<\/SPAN><\/P> These data depict the imagery at the time of the survey and are only accurate for that time. These data have been developed from the best available sources. Although efforts have been made to ensure that the data are accurate and reliable, errors and variable conditions originating from physical sources used to develop the data may be reflected in the data supplied. Users must be aware of these conditions and bear responsibility for the appropriate use of the information with respect to possible errors, scale, resolution, rectification, positional accuracy, development methodology, time period, environmental and climatic conditions and other circumstances specific to these data. The user is responsible for understanding the accuracy limitations of the data provided herein. The burden for determining fitness for use lies entirely with the user. The user should refer to the accompanying metadata notes for a description of the data and data development procedures.<\/SPAN><\/P><\/DIV><\/DIV><\/DIV>",
"pixelType": "U8",
"meanPixelSize": 0.015355387000005809,
"exportTilesAllowed": false,
"editFieldsInfo": null,
"rasterTypeInfos": [{
"help": "",
"name": "Raster Dataset",
"description": "Supports all ArcGIS Raster Datasets"
}],
"defaultResamplingMethod": "Bilinear",
"itemAccess": false,
"minScale": 0,
"serviceProperties": " These data were collected using a GeoCue True View 660 system with three on board Sony 1\" CMOS IMX-183 Digital Cameras owned by USACE Army Corps of Engineers Joint Airborne Lidar Bathymetry Technical Center of Expertise (JALBTCX). The Sony CMOS is a 20MP digital frame camera. All raw data streams were transferred to the office for downloading and processing. The JPG images and Lidar based DEM were ingested into GeoCue'sLP360 processing software. Imagery is processing and stitched into an orthomosiac GeoTiff by Agisoft Metashape tool within Lp360. The result is a seamless, accurate, color balanced and tiled image mosaic.<\/SPAN><\/P> These data depict the imagery at the time of the survey and are only accurate for that time. These data have been developed from the best available sources. Although efforts have been made to ensure that the data are accurate and reliable, errors and variable conditions originating from physical sources used to develop the data may be reflected in the data supplied. Users must be aware of these conditions and bear responsibility for the appropriate use of the information with respect to possible errors, scale, resolution, rectification, positional accuracy, development methodology, time period, environmental and climatic conditions and other circumstances specific to these data. The user is responsible for understanding the accuracy limitations of the data provided herein. The burden for determining fitness for use lies entirely with the user. The user should refer to the accompanying metadata notes for a description of the data and data development procedures.<\/SPAN><\/P><\/DIV><\/DIV><\/DIV>",
"allowCopy": true,
"copyrightText": "Acknowledgement of the Joint Airborne Lidar Bathymetry Technical Center of Expertise (JALBTCX) would be appreciated in any publications or derived products.",
"mensurationCapabilities": "Basic",
"ownershipBasedAccessControlForRasters": null
}