{ "extent": { "ymin": 3322954.5, "xmin": 265054.5, "ymax": 3364652.5, "xmax": 638100.5, "spatialReference": { "latestWkid": 6345, "wkid": 102385 } }, "blockWidth": 2048, "mosaicOperator": "First", "serviceSourceType": "esriImageServiceSourceTypeMosaicDataset", "hasMultidimensions": false, "maxImageWidth": 15000, "maxRecordCount": 1000, "meanValues": [0.039930183900437323], "hasColormap": false, "compressionType": "None", "defaultCompressionQuality": 75, "maxValues": [27.751167297363281], "hasHistograms": true, "datasetFormat": "AMD", "maxImageHeight": 4100, "sortField": "Name", "bandNames": ["Band_1"], "spatialReference": { "latestWkid": 6345, "wkid": 102385 }, "fullExtent": { "ymin": 3322954.5, "xmin": 265054.5, "ymax": 3364652.5, "xmax": 638100.5, "spatialReference": { "latestWkid": 6345, "wkid": 102385 } }, "bandCount": 1, "rasterFunctionInfos": [{ "help": "", "name": "None", "description": "A No-Op Function." }], "supportsStatistics": true, "sortableFields": "MinPS,MaxPS,LowPS,HighPS,CenterX,CenterY,ZOrder,Shape_Length,Shape_Area,Start_Date,End_Date,Year", "minValues": [-8.0157699584960938], "allowRasterFunction": true, "allowComputeTiePoints": false, "serviceDataType": "esriImageServiceDataTypeGeneric", "supportsAdvancedQueries": true, "maxDownloadSizeLimit": 2048, "currentVersion": 12.1, "sortValue": "9999", "objectIdField": "OBJECTID", "blockHeight": 256, "initialExtent": { "ymin": 3322954.5, "xmin": 265054.5, "ymax": 3364652.5, "xmax": 638100.5, "spatialReference": { "latestWkid": 6345, "wkid": 102385 } }, "pixelSizeX": 1, "pixelSizeY": 1, "defaultMosaicMethod": "ByAttribute", "name": "Elevation_Difference_Grids", "allowedMosaicMethods": "ByAttribute,NorthWest,Center,LockRaster,Nadir,Viewpoint,Seamline,None", "maxDownloadImageCount": 20, "fields": [ { "domain": null, "name": "OBJECTID", "alias": "OBJECTID", "type": "esriFieldTypeOID" }, { "domain": null, "name": "Shape", "alias": "Shape", "type": "esriFieldTypeGeometry" }, { "domain": null, "name": "Name", "length": 200, "alias": "Name", "type": "esriFieldTypeString" }, { "domain": null, "name": "MinPS", "alias": "MinPS", "type": "esriFieldTypeDouble" }, { "domain": null, "name": "MaxPS", "alias": "MaxPS", "type": "esriFieldTypeDouble" }, { "domain": null, "name": "LowPS", "alias": "LowPS", "type": "esriFieldTypeDouble" }, { "domain": null, "name": "HighPS", "alias": "HighPS", "type": "esriFieldTypeDouble" }, { "domain": { "splitPolicy": "esriSPTDefaultValue", "name": "MosaicCatalogItemCategoryDomain", "description": "Catalog item categories.", "type": "codedValue", "codedValues": [ { "code": 0, "name": "Unknown" }, { "code": 1, "name": "Primary" }, { "code": 2, "name": "Overview" }, { "code": 3, "name": "Unprocessed Overview" }, { "code": 4, "name": "Partial Overview" }, { "code": 5, "name": "Inactive" }, { "code": 253, "name": "Uploaded" }, { "code": 254, "name": "Incomplete" }, { "code": 255, "name": "Custom" } ], "mergePolicy": "esriMPTDefaultValue" }, "name": "Category", "alias": "Category", "type": "esriFieldTypeInteger" }, { "domain": null, "name": "Tag", "length": 100, "alias": "Tag", "type": "esriFieldTypeString" }, { "domain": null, "name": "GroupName", "length": 100, "alias": "GroupName", "type": "esriFieldTypeString" }, { "domain": null, "name": "ProductName", "length": 100, "alias": "ProductName", "type": "esriFieldTypeString" }, { "domain": null, "name": "CenterX", "alias": "CenterX", "type": "esriFieldTypeDouble" }, { "domain": null, "name": "CenterY", "alias": "CenterY", "type": "esriFieldTypeDouble" }, { "domain": null, "name": "ZOrder", "alias": "ZOrder", "type": "esriFieldTypeInteger" }, { "domain": null, "name": "Effort", "length": 50, "alias": "Effort", "type": "esriFieldTypeString" }, { "domain": null, "name": "Start_Date", "length": 8, "alias": "Start_Date", "type": "esriFieldTypeDate" }, { "domain": null, "name": "End_Date", "length": 8, "alias": "End_Date", "type": "esriFieldTypeDate" }, { "domain": null, "name": "Year", "alias": "Year", "type": "esriFieldTypeSmallInteger" }, { "domain": null, "name": "State", "length": 50, "alias": "State", "type": "esriFieldTypeString" }, { "domain": null, "name": "Shape_Length", "alias": "Shape_Length", "type": "esriFieldTypeDouble" }, { "domain": null, "name": "Shape_Area", "alias": "Shape_Area", "type": "esriFieldTypeDouble" } ], "allowAnalysis": true, "hasRasterAttributeTable": false, "useStandardizedQueries": true, "description": "
The U.S. Army Corps of Engineers (USACE) National Coastal Mapping Program (NCMP), executed by the Joint Airborne Lidar Bathymetry Technical Center of Expertise (JALBTCX), collects and processes high resolution aerial imagery and lidar data that provide regional datasets to support assessments of coastal change. The NCMP surveying methods and data products are invaluable tools for coastal management and have the potential to produce rapid-response data following extreme storm impacts. Emergency post-storm deployment of this system was used following hurricanes Matthew and Irma, and will likely continue to be used following future hurricane impacts. <\/SPAN><\/P><\/DIV><\/DIV><\/DIV>",
"pixelType": "F32",
"meanPixelSize": 1,
"exportTilesAllowed": false,
"editFieldsInfo": null,
"rasterTypeInfos": [{
"help": "",
"name": "Raster Dataset",
"description": "Supports all ArcGIS Raster Datasets"
}],
"defaultResamplingMethod": "Bilinear",
"itemAccess": false,
"minScale": 0,
"serviceProperties": " The U.S. Army Corps of Engineers (USACE) National Coastal Mapping Program (NCMP), executed by the Joint Airborne Lidar Bathymetry Technical Center of Expertise (JALBTCX), collects and processes high resolution aerial imagery and lidar data that provide regional datasets to support assessments of coastal change. The NCMP surveying methods and data products are invaluable tools for coastal management and have the potential to produce rapid-response data following extreme storm impacts. Emergency post-storm deployment of this system was used following hurricanes Matthew and Irma, and will likely continue to be used following future hurricane impacts. <\/SPAN><\/P><\/DIV><\/DIV><\/DIV>",
"allowCopy": true,
"copyrightText": "USACE, JALBTCX",
"mensurationCapabilities": "None",
"ownershipBasedAccessControlForRasters": null
}