{ "extent": { "ymin": 2025932.677199997, "xmin": -17837761.605999999, "ymax": 8326663.677199997, "xmax": -7258414.6059999987, "spatialReference": { "latestWkid": 3857, "wkid": 102100 } }, "blockWidth": 2048, "mosaicOperator": "First", "serviceSourceType": "esriImageServiceSourceTypeMosaicDataset", "hasMultidimensions": false, "maxImageWidth": 15000, "maxRecordCount": 1000, "meanValues": [-3.030882006273111E+33], "hasColormap": false, "compressionType": "None", "defaultCompressionQuality": 75, "maxValues": [1.1342744887950962E+38], "hasHistograms": true, "datasetFormat": "AMD", "maxImageHeight": 15000, "sortField": "", "bandNames": ["Band_1"], "spatialReference": { "latestWkid": 3857, "wkid": 102100 }, "fullExtent": { "ymin": 2025932.677199997, "xmin": -17837761.605999999, "ymax": 8326663.677199997, "xmax": -7258414.6059999987, "spatialReference": { "latestWkid": 3857, "wkid": 102100 } }, "bandCount": 1, "rasterFunctionInfos": [{ "help": "", "name": "None", "description": "" }], "supportsStatistics": true, "sortableFields": "MinPS,MaxPS,LowPS,HighPS,CenterX,CenterY,ZOrder,Year,Start_Date,End_Date,UTM_Zone", "minValues": [-3.4028234663852886E+38], "allowRasterFunction": true, "allowComputeTiePoints": false, "serviceDataType": "esriImageServiceDataTypeGeneric", "supportsAdvancedQueries": true, "maxDownloadSizeLimit": 2048, "currentVersion": 12.1, "sortValue": null, "objectIdField": "OBJECTID", "blockHeight": 256, "initialExtent": { "ymin": 2025932.677199997, "xmin": -17837761.605999999, "ymax": 8326663.677199997, "xmax": -7258414.6059999987, "spatialReference": { "latestWkid": 3857, "wkid": 102100 } }, "pixelSizeX": 1, "pixelSizeY": 1, "defaultMosaicMethod": "Northwest", "name": "JALBTCX_Products_1mGrid", "allowedMosaicMethods": "NorthWest,Center,LockRaster,ByAttribute,Nadir,Viewpoint,Seamline,None", "maxDownloadImageCount": 20, "fields": [ { "domain": null, "name": "OBJECTID", "alias": "OBJECTID", "type": "esriFieldTypeOID" }, { "domain": null, "name": "Name", "length": 200, "alias": "Name", "type": "esriFieldTypeString" }, { "domain": null, "name": "MinPS", "alias": "MinPS", "type": "esriFieldTypeDouble" }, { "domain": null, "name": "MaxPS", "alias": "MaxPS", "type": "esriFieldTypeDouble" }, { "domain": null, "name": "LowPS", "alias": "LowPS", "type": "esriFieldTypeDouble" }, { "domain": null, "name": "HighPS", "alias": "HighPS", "type": "esriFieldTypeDouble" }, { "domain": { "splitPolicy": "esriSPTDefaultValue", "name": "MosaicCatalogItemCategoryDomain", "description": "Catalog item categories.", "type": "codedValue", "codedValues": [ { "code": 0, "name": "Unknown" }, { "code": 1, "name": "Primary" }, { "code": 2, "name": "Overview" }, { "code": 3, "name": "Unprocessed Overview" }, { "code": 4, "name": "Partial Overview" }, { "code": 5, "name": "Inactive" }, { "code": 253, "name": "Uploaded" }, { "code": 254, "name": "Incomplete" }, { "code": 255, "name": "Custom" } ], "mergePolicy": "esriMPTDefaultValue" }, "name": "Category", "alias": "Category", "type": "esriFieldTypeInteger" }, { "domain": null, "name": "Tag", "length": 100, "alias": "Tag", "type": "esriFieldTypeString" }, { "domain": null, "name": "GroupName", "length": 100, "alias": "GroupName", "type": "esriFieldTypeString" }, { "domain": null, "name": "ProductName", "length": 100, "alias": "ProductName", "type": "esriFieldTypeString" }, { "domain": null, "name": "CenterX", "alias": "CenterX", "type": "esriFieldTypeDouble" }, { "domain": null, "name": "CenterY", "alias": "CenterY", "type": "esriFieldTypeDouble" }, { "domain": null, "name": "ZOrder", "alias": "ZOrder", "type": "esriFieldTypeInteger" }, { "domain": null, "name": "Year", "alias": "Year", "type": "esriFieldTypeSmallInteger" }, { "domain": null, "name": "Start_Date", "length": 8, "alias": "Start_Date", "type": "esriFieldTypeDate" }, { "domain": null, "name": "End_Date", "length": 8, "alias": "End_Date", "type": "esriFieldTypeDate" }, { "domain": null, "name": "State", "length": 2, "alias": "State", "type": "esriFieldTypeString" }, { "domain": null, "name": "Effort", "length": 255, "alias": "Effort", "type": "esriFieldTypeString" }, { "domain": null, "name": "UTM_Zone", "alias": "UTM_Zone", "type": "esriFieldTypeSmallInteger" }, { "domain": null, "name": "Hemisphere", "length": 1, "alias": "Hemisphere", "type": "esriFieldTypeString" }, { "domain": null, "name": "Shape", "alias": "Shape", "type": "esriFieldTypeGeometry" } ], "allowAnalysis": true, "hasRasterAttributeTable": false, "useStandardizedQueries": true, "description": "
This layer provides 1 meter grid elevation survey areas for USACE National Coastal Mapping Program (NCMP) and other reimbursable and rapid response surveys conducted by the Joint Airborne Lidar Bathymetry Technical Center of Expertise (JALBTCX). USACE NCMP acquires high-resolution, high-accuracy topographic/bathymetric lidar elevation and imagery on a recurring basis along the sandy shorelines of the US. The program's survey footprint includes an approximately 1-mile wide swath of topography, bathymetry and imagery 500-m onshore and 1000-m offshore. The standard suite of NCMP data products include topographic/bathymetric lidar point clouds, digital surface and elevation models, shoreline vectors and both true-color and hyperspectral imagery mosaics. Value-added derivative information products may include laser reflectance images, landcover classification images, geomorphology features, and volume change metrics. USACE Headquarters initiated the NCMP in 2004. The program's update cycle follows counter-clockwise along the US West Coast, Gulf Coast, East Coast and Great Lakes approximately every 5 years. Surveys in support of USACE project-specific missions and external partners are included constituent to the current NCMP schedule and reimbursable funding. All work is coordinated with Federal mapping partners through the Interagency Working Group on Ocean and Coastal Mapping (IWGOCM) and the 3D Elevation Program (3DEP). NCMP operations are executed by the Joint Airborne Lidar Bathymetry Technical Center of Expertise (JALBTCX). The JALBTCX mission is to perform operations, research and development in airborne lidar bathymetry and complementary technologies to support the coastal mapping and charting requirements of the US Army Corps of Engineers, the US Naval Meteorology and Oceanography Command and the National Oceanic and Atmospheric Administration. Survey operations are conducted worldwide using the Coastal Zone Mapping and Imaging (CZMIL) system and other industry-based coastal mapping and charting systems. CZMIL is JALBTCX's current in-house survey capability that includes a Teledyne CZMIL system with simultaneous topographic and bathymetric capabilities. CZMIL is integrated with an Itres CASI-1500 hyperspectral imager and an 150 megapixel PhaseOne RGBN camera. CZMIL collects 10-kHz lidar data with spatially- and temporally-concurrent digital true-color and hyperspectral imagery.<\/SPAN><\/P><\/DIV><\/DIV><\/DIV>",
"pixelType": "F32",
"meanPixelSize": 1,
"exportTilesAllowed": false,
"editFieldsInfo": null,
"rasterTypeInfos": [{
"help": "",
"name": "Raster Dataset",
"description": "Supports all ArcGIS Raster Datasets"
}],
"defaultResamplingMethod": "Bilinear",
"itemAccess": false,
"minScale": 0,
"serviceProperties": " This layer provides 1 meter grid elevation survey areas for USACE National Coastal Mapping Program (NCMP) and other reimbursable and rapid response surveys conducted by the Joint Airborne Lidar Bathymetry Technical Center of Expertise (JALBTCX). USACE NCMP acquires high-resolution, high-accuracy topographic/bathymetric lidar elevation and imagery on a recurring basis along the sandy shorelines of the US. The program's survey footprint includes an approximately 1-mile wide swath of topography, bathymetry and imagery 500-m onshore and 1000-m offshore. The standard suite of NCMP data products include topographic/bathymetric lidar point clouds, digital surface and elevation models, shoreline vectors and both true-color and hyperspectral imagery mosaics. Value-added derivative information products may include laser reflectance images, landcover classification images, geomorphology features, and volume change metrics. USACE Headquarters initiated the NCMP in 2004. The program's update cycle follows counter-clockwise along the US West Coast, Gulf Coast, East Coast and Great Lakes approximately every 5 years. Surveys in support of USACE project-specific missions and external partners are included constituent to the current NCMP schedule and reimbursable funding. All work is coordinated with Federal mapping partners through the Interagency Working Group on Ocean and Coastal Mapping (IWGOCM) and the 3D Elevation Program (3DEP). NCMP operations are executed by the Joint Airborne Lidar Bathymetry Technical Center of Expertise (JALBTCX). The JALBTCX mission is to perform operations, research and development in airborne lidar bathymetry and complementary technologies to support the coastal mapping and charting requirements of the US Army Corps of Engineers, the US Naval Meteorology and Oceanography Command and the National Oceanic and Atmospheric Administration. Survey operations are conducted worldwide using the Coastal Zone Mapping and Imaging (CZMIL) system and other industry-based coastal mapping and charting systems. CZMIL is JALBTCX's current in-house survey capability that includes a Teledyne CZMIL system with simultaneous topographic and bathymetric capabilities. CZMIL is integrated with an Itres CASI-1500 hyperspectral imager and an 150 megapixel PhaseOne RGBN camera. CZMIL collects 10-kHz lidar data with spatially- and temporally-concurrent digital true-color and hyperspectral imagery.<\/SPAN><\/P><\/DIV><\/DIV><\/DIV>",
"allowCopy": true,
"copyrightText": "JALBTCX, USACE",
"mensurationCapabilities": "None",
"ownershipBasedAccessControlForRasters": null
}