View In:
ArcGIS JavaScript
ArcGIS Enterprise Map Viewer
ArcGIS Earth
Service Description: SingingRiver_ortho_UTM
Name: SingingRiver_ortho_UTM
Description:
Single Fused Map Cache: false
Extent:
XMin: 347794.125
YMin: 3356036.8787790756
XMax: 349483.824025875
YMax: 3357666.1092000008
Spatial Reference: 102385
(6345)
LatestVCSWkid(0)
Initial Extent:
XMin: 347794.125
YMin: 3356036.8787790756
XMax: 349483.824025875
YMax: 3357666.1092000008
Spatial Reference: 102385
(6345)
LatestVCSWkid(0)
Full Extent:
XMin: 347794.125
YMin: 3356036.8787790756
XMax: 349483.824025875
YMax: 3357666.1092000008
Spatial Reference: 102385
(6345)
LatestVCSWkid(0)
Time Info:
Start Time Field: Date
End Time Field: Date
Time Extent:
[2023/10/03 00:00:00 UTC, 2025/10/15 00:00:00 UTC]
Time Reference:
N/A
Pixel Size X: 0.014813475000000137
Pixel Size Y: 0.014813475000001717
Band Count: 4
Pixel Type: U8
RasterFunction Infos: {"rasterFunctionInfos": [{
"help": "",
"name": "None",
"description": "Make a Raster or Raster Dataset into a Function Raster Dataset."
}]}
Mensuration Capabilities: Basic
Inspection Capabilities:
Has Histograms: true
Has Colormap: false
Has Multi Dimensions : false
Rendering Rule:
Min Scale: 0
Max Scale: 0
Copyright Text:
Service Data Type: esriImageServiceDataTypeGeneric
Min Values: 0, 0, 0, 0
Max Values: 255, 255, 255, 255
Mean Values: 75.805964630779755, 76.13622220313043, 53.690500179375931, 142.92721907543438
Standard Deviation Values: 69.295320826105453, 70.612637088447798, 52.652201305663148, 126.48369311251091
Object ID Field: OBJECTID
Fields:
-
OBJECTID
(
alias: OBJECTID
, type: esriFieldTypeOID
)
-
Name
(
length: 200
, alias: Name
, type: esriFieldTypeString
)
-
MinPS
(
alias: MinPS
, type: esriFieldTypeDouble
)
-
MaxPS
(
alias: MaxPS
, type: esriFieldTypeDouble
)
-
LowPS
(
alias: LowPS
, type: esriFieldTypeDouble
)
-
HighPS
(
alias: HighPS
, type: esriFieldTypeDouble
)
-
Category
(
alias: Category
, type: esriFieldTypeInteger
, Coded Values:
[0: Unknown]
, [1: Primary]
, [2: Overview]
, ...6 more...
)
-
Tag
(
length: 100
, alias: Tag
, type: esriFieldTypeString
)
-
GroupName
(
length: 100
, alias: GroupName
, type: esriFieldTypeString
)
-
ProductName
(
length: 100
, alias: ProductName
, type: esriFieldTypeString
)
-
CenterX
(
alias: CenterX
, type: esriFieldTypeDouble
)
-
CenterY
(
alias: CenterY
, type: esriFieldTypeDouble
)
-
ZOrder
(
alias: ZOrder
, type: esriFieldTypeInteger
)
-
Shape
(
alias: Shape
, type: esriFieldTypeGeometry
)
-
Year
(
alias: Year
, type: esriFieldTypeSmallInteger
)
-
Date
(
length: 8
, alias: Date
, type: esriFieldTypeDate
)
-
Shape.STArea()
(
alias: Shape.STArea()
, type: esriFieldTypeDouble
)
-
Shape.STLength()
(
alias: Shape.STLength()
, type: esriFieldTypeDouble
)
Default Mosaic Method: ByAttribute
Allowed Mosaic Methods: ByAttribute,NorthWest,Center,LockRaster,Nadir,Viewpoint,Seamline,None
SortField: Year
SortValue: 9999
Mosaic Operator: First
Default Compression Quality: 75
Default Resampling Method: Bilinear
Max Record Count: 1000
Max Image Height: 4100
Max Image Width: 15000
Max Download Image Count: 20
Max Mosaic Image Count: 20
Allow Raster Function: true
Allow Copy: true
Allow Analysis: true
Allow Compute TiePoints: false
Supports Statistics: true
Supports Advanced Queries: true
Use StandardizedQueries: true
Raster Type Infos:
Name: Raster Dataset
Description: Supports all ArcGIS Raster Datasets
Help:
Has Raster Attribute Table: false
Edit Fields Info: N/A
Ownership Based AccessControl For Rasters: N/A
Child Resources:
Info
Histograms
Statistics
Key Properties
Legend
Raster Function Infos
Supported Operations:
Export Image
Query
Identify
Measure
Compute Histograms
Compute Statistics Histograms
Get Samples
Compute Class Statistics
Query GPS Info
Find Images
Image to Map
Map to Image
Measure from Image
Image to Map Multiray
Query Boundary
Compute Pixel Location
Compute Angles
Validate
Project