View In:
ArcGIS JavaScript
ArcGIS Online Map Viewer
ArcGIS Earth
Service Description: 2018_NCMP_NY_Ontario_BareEarth_1mGrid_UTM_17
Name: 2018_NCMP_NY_Ontario_BareEarth_1mGrid_UTM_17
Description:
Single Fused Map Cache: false
Extent:
XMin: 654371.5
YMin: 4789998.5
XMax: 743100.5
YMax: 4807727.5
Spatial Reference: 102386
(6346)
LatestVCSWkid(0)
Initial Extent:
XMin: 654371.5
YMin: 4789998.5
XMax: 743100.5
YMax: 4807727.5
Spatial Reference: 102386
(6346)
LatestVCSWkid(0)
Full Extent:
XMin: 654371.5
YMin: 4789998.5
XMax: 743100.5
YMax: 4807727.5
Spatial Reference: 102386
(6346)
LatestVCSWkid(0)
Pixel Size X: 1.0
Pixel Size Y: 1.0
Band Count: 1
Pixel Type: F32
RasterFunction Infos: {"rasterFunctionInfos": [
{
"help": "",
"name": "NCMP_NAVD88_minus74.2_times10_16bitSigned_cmap",
"description": "A raster function template."
},
{
"help": "",
"name": "None",
"description": "Make a Raster or Raster Dataset into a Function Raster Dataset."
}
]}
Mensuration Capabilities: None
Inspection Capabilities:
Has Histograms: true
Has Colormap: false
Has Multi Dimensions : false
Rendering Rule:
Min Scale: 0
Max Scale: 0
Copyright Text:
Service Data Type: esriImageServiceDataTypeGeneric
Min Values: 56.026336669921875
Max Values: 140.05567932128906
Mean Values: 74.635681634808165
Standard Deviation Values: 8.0985148691869941
Object ID Field: OBJECTID
Fields:
-
OBJECTID
(
alias: OBJECTID
, type: esriFieldTypeOID
, htmlEncoded: true
)
-
Shape
(
alias: Shape
, type: esriFieldTypeGeometry
, htmlEncoded: true
)
-
Name
(
length: 200
, alias: Name
, type: esriFieldTypeString
, htmlEncoded: true
)
-
MinPS
(
alias: MinPS
, type: esriFieldTypeDouble
, htmlEncoded: true
)
-
MaxPS
(
alias: MaxPS
, type: esriFieldTypeDouble
, htmlEncoded: true
)
-
LowPS
(
alias: LowPS
, type: esriFieldTypeDouble
, htmlEncoded: true
)
-
HighPS
(
alias: HighPS
, type: esriFieldTypeDouble
, htmlEncoded: true
)
-
Category
(
alias: Category
, type: esriFieldTypeInteger
, htmlEncoded: true
, Coded Values:
[0: Unknown]
, [1: Primary]
, [2: Overview]
, ...6 more...
)
-
Tag
(
length: 100
, alias: Tag
, type: esriFieldTypeString
, htmlEncoded: true
)
-
GroupName
(
length: 100
, alias: GroupName
, type: esriFieldTypeString
, htmlEncoded: true
)
-
ProductName
(
length: 100
, alias: ProductName
, type: esriFieldTypeString
, htmlEncoded: true
)
-
CenterX
(
alias: CenterX
, type: esriFieldTypeDouble
, htmlEncoded: true
)
-
CenterY
(
alias: CenterY
, type: esriFieldTypeDouble
, htmlEncoded: true
)
-
ZOrder
(
alias: ZOrder
, type: esriFieldTypeInteger
, htmlEncoded: true
)
-
Year
(
alias: Year
, type: esriFieldTypeSmallInteger
, htmlEncoded: true
)
-
Start_Date
(
length: 8
, alias: Start_Date
, type: esriFieldTypeDate
, htmlEncoded: true
)
-
End_Date
(
length: 8
, alias: End_Date
, type: esriFieldTypeDate
, htmlEncoded: true
)
-
State
(
length: 255
, alias: State
, type: esriFieldTypeString
, htmlEncoded: true
)
-
Effort
(
length: 255
, alias: Effort
, type: esriFieldTypeString
, htmlEncoded: true
)
-
UTM_Zone
(
alias: UTM_Zone
, type: esriFieldTypeSmallInteger
, htmlEncoded: true
)
-
Hemisphere
(
length: 255
, alias: Hemisphere
, type: esriFieldTypeString
, htmlEncoded: true
)
-
Shape_Length
(
alias: Shape_Length
, type: esriFieldTypeDouble
, htmlEncoded: true
)
-
Shape_Area
(
alias: Shape_Area
, type: esriFieldTypeDouble
, htmlEncoded: true
)
Default Mosaic Method: Northwest
Allowed Mosaic Methods: NorthWest,Center,LockRaster,ByAttribute,Nadir,Viewpoint,Seamline,None
SortField:
SortValue: N/A
Mosaic Operator: First
Default Compression Quality: 75
Default Resampling Method: Bilinear
Max Record Count: 1000
Max Image Height: 4100
Max Image Width: 15000
Max Download Image Count: 20
Max Mosaic Image Count: 20
Allow Raster Function: true
Allow Copy: true
Allow Analysis: true
Allow Compute TiePoints: false
Supports Statistics: true
Supports Advanced Queries: true
Use StandardizedQueries: true
Raster Type Infos:
Name: Raster Dataset
Description: Supports all ArcGIS Raster Datasets
Help:
Has Raster Attribute Table: false
Edit Fields Info: N/A
Ownership Based AccessControl For Rasters: N/A
Child Resources:
Info
Histograms
Statistics
Key Properties
Legend
Raster Function Infos
Supported Operations:
Export Image
Query
Identify
Download Rasters
Get Image Url
Compute Histograms
Compute Statistics Histograms
Get Samples
Compute Class Statistics
Query GPS Info
Find Images
Image to Map
Map to Image
Measure from Image
Image to Map Multiray
Query Boundary
Compute Pixel Location
Compute Angles
Validate
Project