View In:
ArcGIS JavaScript
ArcGIS Enterprise Map Viewer
ArcGIS Earth
Service Description: These files contain 3-band RGB orthorectified mosaic imagery tiles generated from data collected using a Phase One iXM-150F digital camera. This full frame medium-format aerial survey camera collected imagery data in tandem with a bathymetric lidar sensor and a hyperspectral imager on a single remote sensing platform. Native imagery data is not generally in a format accessible to most Geographic Information Systems (GIS). Specialized in-house and commercial software packages were used to process the native imagery data into 3-band orthorectified mosaic imagery that can be imported into GIS software for visualization and further analysis. Trajectories were transformed into positional coordinates using the HTDP (Horizontal Time-Dependent Positioning) software to maintain consistency with the NGS (National Geodetic Survey) reference to the North American Datum of 1983 (NAD83) and the North American tectonic plate coordinates realized from the National Adjustment of 2011, or NAD83 (2011). Horizontal positions, provided in decimal degrees of latitude and longitude, are referenced to NAD83 (2011) at the 2010.00 epoch. Vertical positions, provided in meters, are referenced to the NAD83 (2011) ellipsoid. NGS hybrid geoid model GEOID12B was used to transform the vertical positions from ellipsoidal heights to orthometric heights referenced to the North American Datum of 1988 (NAVD88). The imagery data are in TIF files tiled using 1 km boxes defined by the Military Grid Reference System (MGRS). The file naming convention references the year, effort, area, box number, and data product type. An example file name is, “2024_NCMP_PA_17TPF2794_RGB.tif”, where 2024 is the year of data collection, NCMP is the effort under which data were collected, PA is the area of data collection, 17TPF2794 is the box number and RGB is the data product type.
Name: 2024_NCMP_PA_RGB_Allegheny
Description: These files contain 3-band RGB orthorectified mosaic imagery tiles generated from data collected using a Phase One iXM-150F digital camera. This full frame medium-format aerial survey camera collected imagery data in tandem with a bathymetric lidar sensor and a hyperspectral imager on a single remote sensing platform. Native imagery data is not generally in a format accessible to most Geographic Information Systems (GIS). Specialized in-house and commercial software packages were used to process the native imagery data into 3-band orthorectified mosaic imagery that can be imported into GIS software for visualization and further analysis. Trajectories were transformed into positional coordinates using the HTDP (Horizontal Time-Dependent Positioning) software to maintain consistency with the NGS (National Geodetic Survey) reference to the North American Datum of 1983 (NAD83) and the North American tectonic plate coordinates realized from the National Adjustment of 2011, or NAD83 (2011). Horizontal positions, provided in decimal degrees of latitude and longitude, are referenced to NAD83 (2011) at the 2010.00 epoch. Vertical positions, provided in meters, are referenced to the NAD83 (2011) ellipsoid. NGS hybrid geoid model GEOID12B was used to transform the vertical positions from ellipsoidal heights to orthometric heights referenced to the North American Datum of 1988 (NAVD88). The imagery data are in TIF files tiled using 1 km boxes defined by the Military Grid Reference System (MGRS). The file naming convention references the year, effort, area, box number, and data product type. An example file name is, “2024_NCMP_PA_17TPF2794_RGB.tif”, where 2024 is the year of data collection, NCMP is the effort under which data were collected, PA is the area of data collection, 17TPF2794 is the box number and RGB is the data product type.
Single Fused Map Cache: false
Extent:
XMin: 627000.0
YMin: 4592000.0
XMax: 669000.0
YMax: 4636000.0
Spatial Reference: 26917
(26917)
LatestVCSWkid(0)
Initial Extent:
XMin: 627000.0
YMin: 4592000.0
XMax: 669000.0
YMax: 4636000.0
Spatial Reference: 26917
(26917)
LatestVCSWkid(0)
Full Extent:
XMin: 627000.0
YMin: 4592000.0
XMax: 669000.0
YMax: 4636000.0
Spatial Reference: 26917
(26917)
LatestVCSWkid(0)
Pixel Size X: 0.05
Pixel Size Y: 0.05
Band Count: 3
Pixel Type: U8
RasterFunction Infos: {"rasterFunctionInfos": [{
"help": "",
"name": "None",
"description": ""
}]}
Mensuration Capabilities:
Inspection Capabilities:
Has Histograms: true
Has Colormap: false
Has Multi Dimensions : false
Rendering Rule:
Min Scale: 0
Max Scale: 0
Copyright Text: Acknowledgement of the Joint Airborne Lidar Bathymetry Technical Center of eXpertise (JALBTCX) would be appreciated in any publications or derived products.
Service Data Type: esriImageServiceDataTypeRGB
Min Values: 0, 0, 0
Max Values: 252, 255, 255
Mean Values: 81.587224345432062, 96.475360220287428, 65.641322667172886
Standard Deviation Values: 27.233663378639509, 22.631138927786843, 21.544489137077022
Object ID Field: OBJECTID
Fields:
-
OBJECTID
(
alias: OBJECTID
, type: esriFieldTypeOID
)
-
Name
(
length: 200
, alias: Name
, type: esriFieldTypeString
)
-
MinPS
(
alias: MinPS
, type: esriFieldTypeDouble
)
-
MaxPS
(
alias: MaxPS
, type: esriFieldTypeDouble
)
-
LowPS
(
alias: LowPS
, type: esriFieldTypeDouble
)
-
HighPS
(
alias: HighPS
, type: esriFieldTypeDouble
)
-
Category
(
alias: Category
, type: esriFieldTypeInteger
, Coded Values:
[0: Unknown]
, [1: Primary]
, [2: Overview]
, ...6 more...
)
-
Tag
(
length: 100
, alias: Tag
, type: esriFieldTypeString
)
-
GroupName
(
length: 100
, alias: GroupName
, type: esriFieldTypeString
)
-
ProductName
(
length: 100
, alias: ProductName
, type: esriFieldTypeString
)
-
CenterX
(
alias: CenterX
, type: esriFieldTypeDouble
)
-
CenterY
(
alias: CenterY
, type: esriFieldTypeDouble
)
-
ZOrder
(
alias: ZOrder
, type: esriFieldTypeInteger
)
-
Shape
(
alias: Shape
, type: esriFieldTypeGeometry
)
Default Mosaic Method: Northwest
Allowed Mosaic Methods: NorthWest,Center,LockRaster,ByAttribute,Nadir,Viewpoint,Seamline,None
SortField:
SortValue: N/A
Mosaic Operator: First
Default Compression Quality: 75
Default Resampling Method: Bilinear
Max Record Count: 1000
Max Image Height: 4100
Max Image Width: 15000
Max Download Image Count: 20
Max Mosaic Image Count: 20
Allow Raster Function: true
Allow Copy: true
Allow Analysis: true
Allow Compute TiePoints: false
Supports Statistics: true
Supports Advanced Queries: true
Use StandardizedQueries: true
Raster Type Infos:
Name: Raster Dataset
Description: Supports all ArcGIS Raster Datasets
Help:
Has Raster Attribute Table: false
Edit Fields Info: N/A
Ownership Based AccessControl For Rasters: N/A
Child Resources:
Info
Histograms
Statistics
Key Properties
Legend
Raster Function Infos
Supported Operations:
Export Image
Query
Identify
Download Rasters
Get Image Url
Measure
Compute Histograms
Compute Statistics Histograms
Get Samples
Compute Class Statistics
Query GPS Info
Find Images
Image to Map
Map to Image
Measure from Image
Image to Map Multiray
Query Boundary
Compute Pixel Location
Compute Angles
Validate
Project