View In:
ArcGIS JavaScript
ArcGIS Enterprise Map Viewer
ArcGIS Earth
Service Description: These data were collected using a GeoCue True View 660 system with three on board Sony 1" CMOS IMX-183 Digital Cameras owned by USACE Army Corps of Engineers Joint Airborne Lidar Bathymetry Technical Center of Expertise (JALBTCX). The Sony CMOS is a 20MP digital frame camera. All raw data streams were transferred to the office for downloading and processing. The JPG images and Lidar based DEM were ingested into GeoCue'sLP360 processing software. Imagery is processing and stitched into an orthomosiac GeoTiff by Agisoft Metashape tool within Lp360. The result is a seamless, accurate, color balanced and tiled image mosaic.
These data depict the imagery at the time of the survey and are only accurate for that time. These data have been developed from the best available sources. Although efforts have been made to ensure that the data are accurate and reliable, errors and variable conditions originating from physical sources used to develop the data may be reflected in the data supplied. Users must be aware of these conditions and bear responsibility for the appropriate use of the information with respect to possible errors, scale, resolution, rectification, positional accuracy, development methodology, time period, environmental and climatic conditions and other circumstances specific to these data. The user is responsible for understanding the accuracy limitations of the data provided herein. The burden for determining fitness for use lies entirely with the user. The user should refer to the accompanying metadata notes for a description of the data and data development procedures.
Name: COE_RGB_NCMP_JALBTCX_Building
Description: These data were collected using a GeoCue True View 660 system with three on board Sony 1" CMOS IMX-183 Digital Cameras owned by USACE Army Corps of Engineers Joint Airborne Lidar Bathymetry Technical Center of Expertise (JALBTCX). The Sony CMOS is a 20MP digital frame camera. All raw data streams were transferred to the office for downloading and processing. The JPG images and Lidar based DEM were ingested into GeoCue'sLP360 processing software. Imagery is processing and stitched into an orthomosiac GeoTiff by Agisoft Metashape tool within Lp360. The result is a seamless, accurate, color balanced and tiled image mosaic.
These data depict the imagery at the time of the survey and are only accurate for that time. These data have been developed from the best available sources. Although efforts have been made to ensure that the data are accurate and reliable, errors and variable conditions originating from physical sources used to develop the data may be reflected in the data supplied. Users must be aware of these conditions and bear responsibility for the appropriate use of the information with respect to possible errors, scale, resolution, rectification, positional accuracy, development methodology, time period, environmental and climatic conditions and other circumstances specific to these data. The user is responsible for understanding the accuracy limitations of the data provided herein. The burden for determining fitness for use lies entirely with the user. The user should refer to the accompanying metadata notes for a description of the data and data development procedures.
Single Fused Map Cache: false
Extent:
XMin: -9957606.5257
YMin: 3551114.8533575838
XMax: -9957086.745850049
YMax: 3551744.639200002
Spatial Reference: 102100
(3857)
LatestVCSWkid(0)
Initial Extent:
XMin: -9957606.5257
YMin: 3551114.8533575838
XMax: -9957086.745850049
YMax: 3551744.639200002
Spatial Reference: 102100
(3857)
LatestVCSWkid(0)
Full Extent:
XMin: -9957606.5257
YMin: 3551114.8533575838
XMax: -9957086.745850049
YMax: 3551744.639200002
Spatial Reference: 102100
(3857)
LatestVCSWkid(0)
Time Info:
Start Time Field: AcquisitionDate
End Time Field: AcquisitionDate
Time Extent:
[2024/08/30 12:00:00 UTC, 2025/07/02 12:00:00 UTC]
Time Reference:
N/A
Pixel Size X: 0.015355387000006623
Pixel Size Y: 0.015355387000004998
Band Count: 4
Pixel Type: U8
RasterFunction Infos: {"rasterFunctionInfos": [{
"help": "",
"name": "None",
"description": "Make a Raster or Raster Dataset into a Function Raster Dataset."
}]}
Mensuration Capabilities: Basic
Inspection Capabilities:
Has Histograms: true
Has Colormap: false
Has Multi Dimensions : false
Rendering Rule:
Min Scale: 0
Max Scale: 0
Copyright Text: Acknowledgement of the Joint Airborne Lidar Bathymetry Technical Center of Expertise (JALBTCX) would be appreciated in any publications or derived products.
Service Data Type: esriImageServiceDataTypeGeneric
Min Values: 0, 0, 0, 0
Max Values: 254, 254, 255, 255
Mean Values: 119.82133094744377, 127.41665593875629, 85.54640786656276, 242.49330578405829
Standard Deviation Values: 43.26747326796373, 40.758358463014162, 40.726586617185568, 55.07079878126391
Object ID Field: OBJECTID
Fields:
-
OBJECTID
(
alias: OBJECTID
, type: esriFieldTypeOID
)
-
Name
(
length: 200
, alias: Name
, type: esriFieldTypeString
)
-
MinPS
(
alias: MinPS
, type: esriFieldTypeDouble
)
-
MaxPS
(
alias: MaxPS
, type: esriFieldTypeDouble
)
-
LowPS
(
alias: LowPS
, type: esriFieldTypeDouble
)
-
HighPS
(
alias: HighPS
, type: esriFieldTypeDouble
)
-
Category
(
alias: Category
, type: esriFieldTypeInteger
, Coded Values:
[0: Unknown]
, [1: Primary]
, [2: Overview]
, ...6 more...
)
-
Tag
(
length: 100
, alias: Tag
, type: esriFieldTypeString
)
-
GroupName
(
length: 100
, alias: GroupName
, type: esriFieldTypeString
)
-
ProductName
(
length: 100
, alias: ProductName
, type: esriFieldTypeString
)
-
CenterX
(
alias: CenterX
, type: esriFieldTypeDouble
)
-
CenterY
(
alias: CenterY
, type: esriFieldTypeDouble
)
-
ZOrder
(
alias: ZOrder
, type: esriFieldTypeInteger
)
-
Shape
(
alias: Shape
, type: esriFieldTypeGeometry
)
-
AcquisitionDate
(
length: 8
, alias: AcquisitionDate
, type: esriFieldTypeDate
)
-
Shape.STArea()
(
alias: Shape.STArea()
, type: esriFieldTypeDouble
)
-
Shape.STLength()
(
alias: Shape.STLength()
, type: esriFieldTypeDouble
)
Default Mosaic Method: ByAttribute
Allowed Mosaic Methods: ByAttribute,NorthWest,Center,LockRaster,Nadir,Viewpoint,Seamline,None
SortField: AcquisitionDate
SortValue: 9999
Mosaic Operator: First
Default Compression Quality: 75
Default Resampling Method: Bilinear
Max Record Count: 1000
Max Image Height: 4100
Max Image Width: 15000
Max Download Image Count: 20
Max Mosaic Image Count: 50
Allow Raster Function: true
Allow Copy: true
Allow Analysis: true
Allow Compute TiePoints: false
Supports Statistics: true
Supports Advanced Queries: true
Use StandardizedQueries: true
Raster Type Infos:
Name: Raster Dataset
Description: Supports all ArcGIS Raster Datasets
Help:
Has Raster Attribute Table: false
Edit Fields Info: N/A
Ownership Based AccessControl For Rasters: N/A
Child Resources:
Info
Histograms
Statistics
Key Properties
Legend
Raster Function Infos
Supported Operations:
Export Image
Query
Identify
Measure
Compute Histograms
Compute Statistics Histograms
Get Samples
Compute Class Statistics
Query GPS Info
Find Images
Image to Map
Map to Image
Measure from Image
Image to Map Multiray
Query Boundary
Compute Pixel Location
Compute Angles
Validate
Project