View In:
ArcGIS JavaScript
ArcGIS Enterprise Map Viewer
ArcGIS Earth
Service Description: The U.S. Army Corps of Engineers (USACE) National Coastal Mapping Program (NCMP), executed by the Joint Airborne Lidar Bathymetry Technical Center of Expertise (JALBTCX), collects and processes high resolution aerial imagery and lidar data that provide regional datasets to support assessments of coastal change. The NCMP surveying methods and data products are invaluable tools for coastal management and have the potential to produce rapid-response data following extreme storm impacts. Emergency post-storm deployment of this system was used following hurricanes Matthew and Irma, and will likely continue to be used following future hurricane impacts.
Name: Elevation_Difference_Grids
Description: The U.S. Army Corps of Engineers (USACE) National Coastal Mapping Program (NCMP), executed by the Joint Airborne Lidar Bathymetry Technical Center of Expertise (JALBTCX), collects and processes high resolution aerial imagery and lidar data that provide regional datasets to support assessments of coastal change. The NCMP surveying methods and data products are invaluable tools for coastal management and have the potential to produce rapid-response data following extreme storm impacts. Emergency post-storm deployment of this system was used following hurricanes Matthew and Irma, and will likely continue to be used following future hurricane impacts.
Single Fused Map Cache: false
Extent:
XMin: 265054.5
YMin: 3322954.5
XMax: 638100.5
YMax: 3364652.5
Spatial Reference: 102385
(6345)
LatestVCSWkid(0)
Initial Extent:
XMin: 265054.5
YMin: 3322954.5
XMax: 638100.5
YMax: 3364652.5
Spatial Reference: 102385
(6345)
LatestVCSWkid(0)
Full Extent:
XMin: 265054.5
YMin: 3322954.5
XMax: 638100.5
YMax: 3364652.5
Spatial Reference: 102385
(6345)
LatestVCSWkid(0)
Pixel Size X: 1.0
Pixel Size Y: 1.0
Band Count: 1
Pixel Type: F32
RasterFunction Infos: {"rasterFunctionInfos": [{
"help": "",
"name": "None",
"description": "A No-Op Function."
}]}
Mensuration Capabilities: None
Inspection Capabilities:
Has Histograms: true
Has Colormap: false
Has Multi Dimensions : false
Rendering Rule:
Min Scale: 0
Max Scale: 0
Copyright Text: USACE, JALBTCX
Service Data Type: esriImageServiceDataTypeGeneric
Min Values: -8.0157699584960938
Max Values: 27.751167297363281
Mean Values: 0.039930183900437323
Standard Deviation Values: 0.74691281271709953
Object ID Field: OBJECTID
Fields:
-
OBJECTID
(
alias: OBJECTID
, type: esriFieldTypeOID
)
-
Shape
(
alias: Shape
, type: esriFieldTypeGeometry
)
-
Name
(
length: 200
, alias: Name
, type: esriFieldTypeString
)
-
MinPS
(
alias: MinPS
, type: esriFieldTypeDouble
)
-
MaxPS
(
alias: MaxPS
, type: esriFieldTypeDouble
)
-
LowPS
(
alias: LowPS
, type: esriFieldTypeDouble
)
-
HighPS
(
alias: HighPS
, type: esriFieldTypeDouble
)
-
Category
(
alias: Category
, type: esriFieldTypeInteger
, Coded Values:
[0: Unknown]
, [1: Primary]
, [2: Overview]
, ...6 more...
)
-
Tag
(
length: 100
, alias: Tag
, type: esriFieldTypeString
)
-
GroupName
(
length: 100
, alias: GroupName
, type: esriFieldTypeString
)
-
ProductName
(
length: 100
, alias: ProductName
, type: esriFieldTypeString
)
-
CenterX
(
alias: CenterX
, type: esriFieldTypeDouble
)
-
CenterY
(
alias: CenterY
, type: esriFieldTypeDouble
)
-
ZOrder
(
alias: ZOrder
, type: esriFieldTypeInteger
)
-
Effort
(
length: 50
, alias: Effort
, type: esriFieldTypeString
)
-
Start_Date
(
length: 8
, alias: Start_Date
, type: esriFieldTypeDate
)
-
End_Date
(
length: 8
, alias: End_Date
, type: esriFieldTypeDate
)
-
Year
(
alias: Year
, type: esriFieldTypeSmallInteger
)
-
State
(
length: 50
, alias: State
, type: esriFieldTypeString
)
-
Shape_Length
(
alias: Shape_Length
, type: esriFieldTypeDouble
)
-
Shape_Area
(
alias: Shape_Area
, type: esriFieldTypeDouble
)
Default Mosaic Method: ByAttribute
Allowed Mosaic Methods: ByAttribute,NorthWest,Center,LockRaster,Nadir,Viewpoint,Seamline,None
SortField: Name
SortValue: 9999
Mosaic Operator: First
Default Compression Quality: 75
Default Resampling Method: Bilinear
Max Record Count: 1000
Max Image Height: 4100
Max Image Width: 15000
Max Download Image Count: 20
Max Mosaic Image Count: 20
Allow Raster Function: true
Allow Copy: true
Allow Analysis: true
Allow Compute TiePoints: false
Supports Statistics: true
Supports Advanced Queries: true
Use StandardizedQueries: true
Raster Type Infos:
Name: Raster Dataset
Description: Supports all ArcGIS Raster Datasets
Help:
Has Raster Attribute Table: false
Edit Fields Info: N/A
Ownership Based AccessControl For Rasters: N/A
Child Resources:
Info
Histograms
Statistics
Key Properties
Legend
Raster Function Infos
Supported Operations:
Export Image
Query
Identify
Download Rasters
Get Image Url
Compute Histograms
Compute Statistics Histograms
Get Samples
Compute Class Statistics
Query GPS Info
Find Images
Image to Map
Map to Image
Measure from Image
Image to Map Multiray
Query Boundary
Compute Pixel Location
Compute Angles
Validate
Project