View In:
ArcGIS JavaScript
ArcGIS Enterprise Map Viewer
ArcGIS Earth
Service Description: This layer provides 1 meter grid elevation survey areas for USACE National Coastal Mapping Program (NCMP) and other reimbursable and rapid response surveys conducted by the Joint Airborne Lidar Bathymetry Technical Center of Expertise (JALBTCX). USACE NCMP acquires high-resolution, high-accuracy topographic/bathymetric lidar elevation and imagery on a recurring basis along the sandy shorelines of the US. The program's survey footprint includes an approximately 1-mile wide swath of topography, bathymetry and imagery 500-m onshore and 1000-m offshore. The standard suite of NCMP data products include topographic/bathymetric lidar point clouds, digital surface and elevation models, shoreline vectors and both true-color and hyperspectral imagery mosaics. Value-added derivative information products may include laser reflectance images, landcover classification images, geomorphology features, and volume change metrics. USACE Headquarters initiated the NCMP in 2004. The program's update cycle follows counter-clockwise along the US West Coast, Gulf Coast, East Coast and Great Lakes approximately every 5 years. Surveys in support of USACE project-specific missions and external partners are included constituent to the current NCMP schedule and reimbursable funding. All work is coordinated with Federal mapping partners through the Interagency Working Group on Ocean and Coastal Mapping (IWGOCM) and the 3D Elevation Program (3DEP). NCMP operations are executed by the Joint Airborne Lidar Bathymetry Technical Center of Expertise (JALBTCX). The JALBTCX mission is to perform operations, research and development in airborne lidar bathymetry and complementary technologies to support the coastal mapping and charting requirements of the US Army Corps of Engineers, the US Naval Meteorology and Oceanography Command and the National Oceanic and Atmospheric Administration. Survey operations are conducted worldwide using the Coastal Zone Mapping and Imaging (CZMIL) system and other industry-based coastal mapping and charting systems. CZMIL is JALBTCX's current in-house survey capability that includes a Teledyne CZMIL system with simultaneous topographic and bathymetric capabilities. CZMIL is integrated with an Itres CASI-1500 hyperspectral imager and an 150 megapixel PhaseOne RGBN camera. CZMIL collects 10-kHz lidar data with spatially- and temporally-concurrent digital true-color and hyperspectral imagery.
Name: JALBTCX_Products_1mGrid
Description: This layer provides 1 meter grid elevation survey areas for USACE National Coastal Mapping Program (NCMP) and other reimbursable and rapid response surveys conducted by the Joint Airborne Lidar Bathymetry Technical Center of Expertise (JALBTCX). USACE NCMP acquires high-resolution, high-accuracy topographic/bathymetric lidar elevation and imagery on a recurring basis along the sandy shorelines of the US. The program's survey footprint includes an approximately 1-mile wide swath of topography, bathymetry and imagery 500-m onshore and 1000-m offshore. The standard suite of NCMP data products include topographic/bathymetric lidar point clouds, digital surface and elevation models, shoreline vectors and both true-color and hyperspectral imagery mosaics. Value-added derivative information products may include laser reflectance images, landcover classification images, geomorphology features, and volume change metrics. USACE Headquarters initiated the NCMP in 2004. The program's update cycle follows counter-clockwise along the US West Coast, Gulf Coast, East Coast and Great Lakes approximately every 5 years. Surveys in support of USACE project-specific missions and external partners are included constituent to the current NCMP schedule and reimbursable funding. All work is coordinated with Federal mapping partners through the Interagency Working Group on Ocean and Coastal Mapping (IWGOCM) and the 3D Elevation Program (3DEP). NCMP operations are executed by the Joint Airborne Lidar Bathymetry Technical Center of Expertise (JALBTCX). The JALBTCX mission is to perform operations, research and development in airborne lidar bathymetry and complementary technologies to support the coastal mapping and charting requirements of the US Army Corps of Engineers, the US Naval Meteorology and Oceanography Command and the National Oceanic and Atmospheric Administration. Survey operations are conducted worldwide using the Coastal Zone Mapping and Imaging (CZMIL) system and other industry-based coastal mapping and charting systems. CZMIL is JALBTCX's current in-house survey capability that includes a Teledyne CZMIL system with simultaneous topographic and bathymetric capabilities. CZMIL is integrated with an Itres CASI-1500 hyperspectral imager and an 150 megapixel PhaseOne RGBN camera. CZMIL collects 10-kHz lidar data with spatially- and temporally-concurrent digital true-color and hyperspectral imagery.
Single Fused Map Cache: false
Extent:
XMin: -1.7837761606E7
YMin: 2025932.677199997
XMax: -7258414.605999999
YMax: 8326663.677199997
Spatial Reference: 102100
(3857)
LatestVCSWkid(0)
Initial Extent:
XMin: -1.7837761606E7
YMin: 2025932.677199997
XMax: -7258414.605999999
YMax: 8326663.677199997
Spatial Reference: 102100
(3857)
LatestVCSWkid(0)
Full Extent:
XMin: -1.7837761606E7
YMin: 2025932.677199997
XMax: -7258414.605999999
YMax: 8326663.677199997
Spatial Reference: 102100
(3857)
LatestVCSWkid(0)
Pixel Size X: 1.0
Pixel Size Y: 1.0
Band Count: 1
Pixel Type: F32
RasterFunction Infos: {"rasterFunctionInfos": [{
"help": "",
"name": "None",
"description": ""
}]}
Mensuration Capabilities: None
Inspection Capabilities:
Has Histograms: true
Has Colormap: false
Has Multi Dimensions : false
Rendering Rule:
Min Scale: 0
Max Scale: 0
Copyright Text: JALBTCX, USACE
Service Data Type: esriImageServiceDataTypeGeneric
Min Values: -3.4028234663852886E+38
Max Values: 1.1342744887950962E+38
Mean Values: -3.030882006273111E+33
Standard Deviation Values: 2.9186919807676644E+36
Object ID Field: OBJECTID
Fields:
-
OBJECTID
(
alias: OBJECTID
, type: esriFieldTypeOID
)
-
Name
(
length: 200
, alias: Name
, type: esriFieldTypeString
)
-
MinPS
(
alias: MinPS
, type: esriFieldTypeDouble
)
-
MaxPS
(
alias: MaxPS
, type: esriFieldTypeDouble
)
-
LowPS
(
alias: LowPS
, type: esriFieldTypeDouble
)
-
HighPS
(
alias: HighPS
, type: esriFieldTypeDouble
)
-
Category
(
alias: Category
, type: esriFieldTypeInteger
, Coded Values:
[0: Unknown]
, [1: Primary]
, [2: Overview]
, ...6 more...
)
-
Tag
(
length: 100
, alias: Tag
, type: esriFieldTypeString
)
-
GroupName
(
length: 100
, alias: GroupName
, type: esriFieldTypeString
)
-
ProductName
(
length: 100
, alias: ProductName
, type: esriFieldTypeString
)
-
CenterX
(
alias: CenterX
, type: esriFieldTypeDouble
)
-
CenterY
(
alias: CenterY
, type: esriFieldTypeDouble
)
-
ZOrder
(
alias: ZOrder
, type: esriFieldTypeInteger
)
-
Year
(
alias: Year
, type: esriFieldTypeSmallInteger
)
-
Start_Date
(
length: 8
, alias: Start_Date
, type: esriFieldTypeDate
)
-
End_Date
(
length: 8
, alias: End_Date
, type: esriFieldTypeDate
)
-
State
(
length: 2
, alias: State
, type: esriFieldTypeString
)
-
Effort
(
length: 255
, alias: Effort
, type: esriFieldTypeString
)
-
UTM_Zone
(
alias: UTM_Zone
, type: esriFieldTypeSmallInteger
)
-
Hemisphere
(
length: 1
, alias: Hemisphere
, type: esriFieldTypeString
)
-
Shape
(
alias: Shape
, type: esriFieldTypeGeometry
)
Default Mosaic Method: Northwest
Allowed Mosaic Methods: NorthWest,Center,LockRaster,ByAttribute,Nadir,Viewpoint,Seamline,None
SortField:
SortValue: N/A
Mosaic Operator: First
Default Compression Quality: 75
Default Resampling Method: Bilinear
Max Record Count: 1000
Max Image Height: 15000
Max Image Width: 15000
Max Download Image Count: 20
Max Mosaic Image Count: 100
Allow Raster Function: true
Allow Copy: true
Allow Analysis: true
Allow Compute TiePoints: false
Supports Statistics: true
Supports Advanced Queries: true
Use StandardizedQueries: true
Raster Type Infos:
Name: Raster Dataset
Description: Supports all ArcGIS Raster Datasets
Help:
Has Raster Attribute Table: false
Edit Fields Info: N/A
Ownership Based AccessControl For Rasters: N/A
Child Resources:
Info
Histograms
Statistics
Key Properties
Legend
Raster Function Infos
Supported Operations:
Export Image
Query
Identify
Download Rasters
Get Image Url
Compute Histograms
Compute Statistics Histograms
Get Samples
Compute Class Statistics
Query GPS Info
Find Images
Image to Map
Map to Image
Measure from Image
Image to Map Multiray
Query Boundary
Compute Pixel Location
Compute Angles
Validate
Project